BEGIN:VCALENDAR
VERSION:2.0
PRODID:-//La Leche League of Durham - ECPv6.0.9//NONSGML v1.0//EN
CALSCALE:GREGORIAN
METHOD:PUBLISH
X-WR-CALNAME:La Leche League of Durham
X-ORIGINAL-URL:https://llldurham.org
X-WR-CALDESC:Events for La Leche League of Durham
REFRESH-INTERVAL;VALUE=DURATION:PT1H
X-Robots-Tag:noindex
X-PUBLISHED-TTL:PT1H
BEGIN:VTIMEZONE
TZID:America/New_York
BEGIN:DAYLIGHT
TZOFFSETFROM:-0500
TZOFFSETTO:-0400
TZNAME:EDT
DTSTART:20200308T070000
END:DAYLIGHT
BEGIN:STANDARD
TZOFFSETFROM:-0400
TZOFFSETTO:-0500
TZNAME:EST
DTSTART:20201101T060000
END:STANDARD
END:VTIMEZONE
BEGIN:VEVENT
DTSTART;TZID=America/New_York:20200304T100000
DTEND;TZID=America/New_York:20200304T120000
DTSTAMP:20260425T193804
CREATED:20200212T213751Z
LAST-MODIFIED:20200212T214508Z
UID:298-1583316000-1583323200@llldurham.org
SUMMARY:Central Durham Group meets on Wednesday\, March 4
DESCRIPTION:The Central Durham Group meets on the first Wednesday of each month at 10am.\n(No meetings in January and July.) \nWhere: Welcome Baby\, Cooperative Ext. Building\, 721 Foster Street\, Durham\, NC 27701 \nGet support!  Ask questions!  Share experiences!   \nYour questions and concerns are always the top priority!\nWe also will be talking about Working and the Breastfed Baby. \nCome with your questions and share your concerns and successes!
URL:https://llldurham.org/event/central-durham-group-meets-on-wednesday-march-4/
LOCATION:Welcome Baby\, Cooperative Ext. Building\, 721 Foster Street\, Durham\, NC\, 27701\, United States
END:VEVENT
END:VCALENDAR