BEGIN:VCALENDAR
VERSION:2.0
PRODID:-//La Leche League of Durham - ECPv6.0.9//NONSGML v1.0//EN
CALSCALE:GREGORIAN
METHOD:PUBLISH
X-ORIGINAL-URL:https://llldurham.org
X-WR-CALDESC:Events for La Leche League of Durham
REFRESH-INTERVAL;VALUE=DURATION:PT1H
X-Robots-Tag:noindex
X-PUBLISHED-TTL:PT1H
BEGIN:VTIMEZONE
TZID:America/New_York
BEGIN:DAYLIGHT
TZOFFSETFROM:-0500
TZOFFSETTO:-0400
TZNAME:EDT
DTSTART:20200308T070000
END:DAYLIGHT
BEGIN:STANDARD
TZOFFSETFROM:-0400
TZOFFSETTO:-0500
TZNAME:EST
DTSTART:20201101T060000
END:STANDARD
END:VTIMEZONE
BEGIN:VEVENT
DTSTART;TZID=America/New_York:20200413T183000
DTEND;TZID=America/New_York:20200413T183000
DTSTAMP:20260425T193856
CREATED:20200311T202835Z
LAST-MODIFIED:20200404T002542Z
UID:314-1586802600-1586802600@llldurham.org
SUMMARY:LLL of Durham PM April 13 Meeting *ONLINE*
DESCRIPTION:Due to the current stay-home guidelines\, this meeting will take place virtually\, by Zoom. https://zoom.us/j/668158903 \nGet support!  Ask questions!  Share experiences!   \nYour questions and concerns are always the top priority! \nWe also will be talking about Nutrition and Weaning. \nCome with your questions and share your concerns and successes!
URL:https://llldurham.org/event/durham-evening-group-meets-on-monday-april-13/
LOCATION:Online Zoom PM Meeting\, Durham\, https://us02web.zoom.us/j/79745914178\, NC\, United States
END:VEVENT
END:VCALENDAR