BEGIN:VCALENDAR
VERSION:2.0
PRODID:-//La Leche League of Durham - ECPv6.0.9//NONSGML v1.0//EN
CALSCALE:GREGORIAN
METHOD:PUBLISH
X-WR-CALNAME:La Leche League of Durham
X-ORIGINAL-URL:https://llldurham.org
X-WR-CALDESC:Events for La Leche League of Durham
REFRESH-INTERVAL;VALUE=DURATION:PT1H
X-Robots-Tag:noindex
X-PUBLISHED-TTL:PT1H
BEGIN:VTIMEZONE
TZID:America/New_York
BEGIN:DAYLIGHT
TZOFFSETFROM:-0500
TZOFFSETTO:-0400
TZNAME:EDT
DTSTART:20200308T070000
END:DAYLIGHT
BEGIN:STANDARD
TZOFFSETFROM:-0400
TZOFFSETTO:-0500
TZNAME:EST
DTSTART:20201101T060000
END:STANDARD
END:VTIMEZONE
BEGIN:VEVENT
DTSTART;TZID=America/New_York:20200416T103000
DTEND;TZID=America/New_York:20200416T123000
DTSTAMP:20260425T222643
CREATED:20200311T203036Z
LAST-MODIFIED:20200405T225603Z
UID:316-1587033000-1587040200@llldurham.org
SUMMARY:Durham South Group meets ONLINE this Thursday\, April 16th
DESCRIPTION:April 16 ONLINE:  https://meet.google.com/drx-dsef-akf \nGet support!  Ask questions!  Share experiences!   \nYour questions and concerns are always the top priority! \nWe also will be talking about Weaning and the Four Chambers of the Heart. \nCome with your questions and share your concerns and successes!
URL:https://llldurham.org/event/durham-south-group-meets-on-thursday-april-16th/
LOCATION:Online Durham South\, https://meet.google.com/drx-dsef-akf\, NC\, United States
END:VEVENT
END:VCALENDAR