BEGIN:VCALENDAR
VERSION:2.0
PRODID:-//La Leche League of Durham - ECPv6.0.9//NONSGML v1.0//EN
CALSCALE:GREGORIAN
METHOD:PUBLISH
X-ORIGINAL-URL:https://llldurham.org
X-WR-CALDESC:Events for La Leche League of Durham
REFRESH-INTERVAL;VALUE=DURATION:PT1H
X-Robots-Tag:noindex
X-PUBLISHED-TTL:PT1H
BEGIN:VTIMEZONE
TZID:America/New_York
BEGIN:DAYLIGHT
TZOFFSETFROM:-0500
TZOFFSETTO:-0400
TZNAME:EDT
DTSTART:20200308T070000
END:DAYLIGHT
BEGIN:STANDARD
TZOFFSETFROM:-0400
TZOFFSETTO:-0500
TZNAME:EST
DTSTART:20201101T060000
END:STANDARD
END:VTIMEZONE
BEGIN:VEVENT
DTSTART;TZID=America/New_York:20200603T100000
DTEND;TZID=America/New_York:20200603T100000
DTSTAMP:20260425T132259
CREATED:20200516T122453Z
LAST-MODIFIED:20200516T174228Z
UID:381-1591178400-1591178400@llldurham.org
SUMMARY:Central Durham group meeting ONLINE on June 3 at 10am
DESCRIPTION:The Central Durham La Leche League Group meets on the first Wednesday of each month at 10am. (No meetings in January and July.) \nThe June 3rd meeting is ONLINE.\nWhere: https://meet.google.com/rzo-dqdh-gcp \nGet support!  Ask questions!  Share experiences!   \nYour questions and concerns are always the top priority!\nWe also will be talking about Getting Breastfeeding Off to a Good Start. \nCome with your questions and share your concerns and successes!
URL:https://llldurham.org/event/central-durham-group-meeting-online-on-june-3/
LOCATION:Online Durham Daytime meeting\, https://meet.google.com/rzo-dqdh-gcp\, Durham\, NC\, United States
END:VEVENT
END:VCALENDAR