BEGIN:VCALENDAR
VERSION:2.0
PRODID:-//La Leche League of Durham - ECPv6.0.9//NONSGML v1.0//EN
CALSCALE:GREGORIAN
METHOD:PUBLISH
X-WR-CALNAME:La Leche League of Durham
X-ORIGINAL-URL:https://llldurham.org
X-WR-CALDESC:Events for La Leche League of Durham
REFRESH-INTERVAL;VALUE=DURATION:PT1H
X-Robots-Tag:noindex
X-PUBLISHED-TTL:PT1H
BEGIN:VTIMEZONE
TZID:America/New_York
BEGIN:DAYLIGHT
TZOFFSETFROM:-0500
TZOFFSETTO:-0400
TZNAME:EDT
DTSTART:20200308T070000
END:DAYLIGHT
BEGIN:STANDARD
TZOFFSETFROM:-0400
TZOFFSETTO:-0500
TZNAME:EST
DTSTART:20201101T060000
END:STANDARD
END:VTIMEZONE
BEGIN:VEVENT
DTSTART;TZID=America/New_York:20200713T183000
DTEND;TZID=America/New_York:20200713T200000
DTSTAMP:20260425T112801
CREATED:20200617T233823Z
LAST-MODIFIED:20200617T233823Z
UID:410-1594665000-1594670400@llldurham.org
SUMMARY:La Leche League Durham PM Group meeting ONLINE July 13
DESCRIPTION:The La Leche League Durham PM Group is meeting ONLINE/VIRTUAL until further notice. \nThe next meeting is: Monday\, July 13\, 2020\, at 6:30pm \nWhere:  https://us02web.zoom.us/j/79745914178 \nGet support!  Ask questions!  Share experiences!   \nYour questions and concerns are always the top priority! \nWe also will be talking about The Art of Breastfeeding and Avoiding Difficulties. \nCome with your questions and share your concerns and successes!
URL:https://llldurham.org/event/la-leche-league-durham-pm-group-meeting-online-july-13/
LOCATION:Online Zoom PM Meeting\, Durham\, https://us02web.zoom.us/j/79745914178\, NC\, United States
END:VEVENT
END:VCALENDAR