BEGIN:VCALENDAR
VERSION:2.0
PRODID:-//La Leche League of Durham - ECPv6.0.9//NONSGML v1.0//EN
CALSCALE:GREGORIAN
METHOD:PUBLISH
X-WR-CALNAME:La Leche League of Durham
X-ORIGINAL-URL:https://llldurham.org
X-WR-CALDESC:Events for La Leche League of Durham
REFRESH-INTERVAL;VALUE=DURATION:PT1H
X-Robots-Tag:noindex
X-PUBLISHED-TTL:PT1H
BEGIN:VTIMEZONE
TZID:America/New_York
BEGIN:DAYLIGHT
TZOFFSETFROM:-0500
TZOFFSETTO:-0400
TZNAME:EDT
DTSTART:20200308T070000
END:DAYLIGHT
BEGIN:STANDARD
TZOFFSETFROM:-0400
TZOFFSETTO:-0500
TZNAME:EST
DTSTART:20201101T060000
END:STANDARD
END:VTIMEZONE
BEGIN:VEVENT
DTSTART;TZID=America/New_York:20200716T103000
DTEND;TZID=America/New_York:20200716T120000
DTSTAMP:20260425T112801
CREATED:20200617T231251Z
LAST-MODIFIED:20200617T231251Z
UID:400-1594895400-1594900800@llldurham.org
SUMMARY:Durham South Group - ABCs of Breastfeeding
DESCRIPTION:The Durham South La Leche League Group is meeting ONLINE tomorrow! \nWhen: Thursday\, July 16\, 10:30am (10:20am to set up and “network”) \nWhere:  https://meet.google.com/drx-dsef-akf \nGet support!  Ask questions!  Share experiences!   \nYour questions and concerns are always the top priority! \nWe also will be talking about ABCs of Breastfeeding \nWhether you are pregnant or facing a challenge; breastfeeding is going smoothly; or you would like to help support others…Come with your questions and share your concerns and successes! \n 
URL:https://llldurham.org/event/durham-south-group-abcs-of-breastfeeding/
LOCATION:Online Durham South\, https://meet.google.com/drx-dsef-akf\, NC\, United States
END:VEVENT
END:VCALENDAR