BEGIN:VCALENDAR
VERSION:2.0
PRODID:-//La Leche League of Durham - ECPv6.0.9//NONSGML v1.0//EN
CALSCALE:GREGORIAN
METHOD:PUBLISH
X-WR-CALNAME:La Leche League of Durham
X-ORIGINAL-URL:https://llldurham.org
X-WR-CALDESC:Events for La Leche League of Durham
REFRESH-INTERVAL;VALUE=DURATION:PT1H
X-Robots-Tag:noindex
X-PUBLISHED-TTL:PT1H
BEGIN:VTIMEZONE
TZID:America/New_York
BEGIN:DAYLIGHT
TZOFFSETFROM:-0500
TZOFFSETTO:-0400
TZNAME:EDT
DTSTART:20200308T070000
END:DAYLIGHT
BEGIN:STANDARD
TZOFFSETFROM:-0400
TZOFFSETTO:-0500
TZNAME:EST
DTSTART:20201101T060000
END:STANDARD
END:VTIMEZONE
BEGIN:VEVENT
DTSTART;VALUE=DATE:20200801
DTEND;VALUE=DATE:20200901
DTSTAMP:20260425T142904
CREATED:20200714T131320Z
LAST-MODIFIED:20200819T195937Z
UID:415-1596240000-1598918399@llldurham.org
SUMMARY:Live\, Love\, Latch!® 2020 - National Breastfeeding Month!
DESCRIPTION:August is National Breastfeeding Month!  This year\, we are excited to share that La Leche League of Durham\, Breastfeed Durham\, and Breastfeeding Family Friendly Communities are celebrating National Breastfeeding Month – Many Voices United – with a Live\, Love\, Latch!® 2020 virtual Show & Tell and prizes!   \nShare Your Show & Tell here! \nAnytime between now and the end of August\, SHOW with a picture or video and TELL with a description something about your breastfeeding journey – maybe it’s a complicated or gymnastic breastfeeding pose; or a gentle breastfeeding pose; or a sweet way to ask to breastfeed; or one of the most inconvenient moments to be asked to breastfeed. It also might be how you are supporting a welcoming atmosphere for breastfeeding families in Durham. \nEveryone is welcome to participate! \nEach week in August\, submissions will be entered into a drawing for a prize.\nWeek 1: 30-minute Mind/Body Centering Yoga virtual session from These Wandering Roots\nWeek 2: $10 gas card*\nWeek 3: Virtual consultation ($45 value) on EC or potty training from Go Diaper Free\nWeek 4: Two personalized 30-minute Restorative Yoga Class (virtual\, of course) from Start of Life\nAdditional Prizes: $10 gift card from The Regulator Bookshop*\nAdditional Prizes: “Boob hat” from These Wandering Roots*\n*Mailed to a US address only. \nGrand prize: Custom Portrait Valued at $195 C. J. Howardart Every Day Paint \nRemember to Share Your Show & Tell here! \nThe 2020 National Breastfeeding Month theme\, Many Voices United\, reminds us that now\, more than ever\, we must come together to identify and implement the policy and systems changes that are needed to ensure that every family that chooses to breastfeed has the support and resources they need to succeed.
URL:https://llldurham.org/event/live-love-latch-2020-national-breastfeeding-month/
LOCATION:NC
END:VEVENT
END:VCALENDAR