BEGIN:VCALENDAR
VERSION:2.0
PRODID:-//La Leche League of Durham - ECPv6.0.9//NONSGML v1.0//EN
CALSCALE:GREGORIAN
METHOD:PUBLISH
X-ORIGINAL-URL:https://llldurham.org
X-WR-CALDESC:Events for La Leche League of Durham
REFRESH-INTERVAL;VALUE=DURATION:PT1H
X-Robots-Tag:noindex
X-PUBLISHED-TTL:PT1H
BEGIN:VTIMEZONE
TZID:America/New_York
BEGIN:DAYLIGHT
TZOFFSETFROM:-0500
TZOFFSETTO:-0400
TZNAME:EDT
DTSTART:20200308T070000
END:DAYLIGHT
BEGIN:STANDARD
TZOFFSETFROM:-0400
TZOFFSETTO:-0500
TZNAME:EST
DTSTART:20201101T060000
END:STANDARD
END:VTIMEZONE
BEGIN:VEVENT
DTSTART;TZID=America/New_York:20201109T183000
DTEND;TZID=America/New_York:20201109T200000
DTSTAMP:20260425T192427
CREATED:20201031T211708Z
LAST-MODIFIED:20201031T212240Z
UID:469-1604946600-1604952000@llldurham.org
SUMMARY:LLL Durham PM Group meets November 9th at 6:30pm
DESCRIPTION:The next meeting is: Monday\, November 9\, 2020\, at 6:30pm \nWhere:  https://us02web.zoom.us/j/79745914178 \nGet support!  Ask questions!  Share experiences! \nYour questions and concerns are always the top priority! \nWe also will be talking about The Art of Breastfeeding and Overcoming Difficulties. \nCome with your questions and share your concerns and successes!
URL:https://llldurham.org/event/lll-durham-pm-group-meets-november-9th-at-630pm/
LOCATION:Online Zoom PM Meeting\, Durham\, https://us02web.zoom.us/j/79745914178\, NC\, United States
END:VEVENT
END:VCALENDAR