BEGIN:VCALENDAR
VERSION:2.0
PRODID:-//La Leche League of Durham - ECPv6.0.9//NONSGML v1.0//EN
CALSCALE:GREGORIAN
METHOD:PUBLISH
X-WR-CALNAME:La Leche League of Durham
X-ORIGINAL-URL:https://llldurham.org
X-WR-CALDESC:Events for La Leche League of Durham
REFRESH-INTERVAL;VALUE=DURATION:PT1H
X-Robots-Tag:noindex
X-PUBLISHED-TTL:PT1H
BEGIN:VTIMEZONE
TZID:America/New_York
BEGIN:DAYLIGHT
TZOFFSETFROM:-0500
TZOFFSETTO:-0400
TZNAME:EDT
DTSTART:20190310T070000
END:DAYLIGHT
BEGIN:STANDARD
TZOFFSETFROM:-0400
TZOFFSETTO:-0500
TZNAME:EST
DTSTART:20191103T060000
END:STANDARD
END:VTIMEZONE
BEGIN:VEVENT
DTSTART;TZID=America/New_York:20191111T183000
DTEND;TZID=America/New_York:20191111T183000
DTSTAMP:20260426T001408
CREATED:20191018T124103Z
LAST-MODIFIED:20191018T124103Z
UID:253-1573497000-1573497000@llldurham.org
SUMMARY:November Evening Group meeting!
DESCRIPTION:Get support!  Ask questions!  Share experiences!  \nYour questions and concerns are always the top priority! \nWe also will be talking about Avoiding Problems. \nCome with your questions and share your concerns and successes!
URL:https://llldurham.org/event/november-evening-group-meeting/
LOCATION:Durham Friends Meeting House\, 404 Alexander Avenue\, Durham\, NC\, 27705\, United States
END:VEVENT
BEGIN:VEVENT
DTSTART;TZID=America/New_York:20191114T100000
DTEND;TZID=America/New_York:20191114T100000
DTSTAMP:20260426T001408
CREATED:20191018T124331Z
LAST-MODIFIED:20191018T124331Z
UID:255-1573725600-1573725600@llldurham.org
SUMMARY:Central Durham Morning Group meeting in November!
DESCRIPTION:Get support!  Ask questions!  Share experiences!  \nYour questions and concerns are always the top priority! \nWe also will be talking about New Breastfed Baby in Your Life. \nCome with your questions and share your concerns and successes!
URL:https://llldurham.org/event/central-durham-morning-group-meeting-in-november/
LOCATION:Welcome Baby\, Cooperative Ext. Building\, 721 Foster Street\, Durham\, NC\, 27701\, United States
END:VEVENT
BEGIN:VEVENT
DTSTART;TZID=America/New_York:20191121T103000
DTEND;TZID=America/New_York:20191121T103000
DTSTAMP:20260426T001408
CREATED:20191018T124729Z
LAST-MODIFIED:20191018T124753Z
UID:257-1574332200-1574332200@llldurham.org
SUMMARY:Durham South November morning meeting!
DESCRIPTION:Get support!  Ask questions!  Share experiences!  \nYour questions and concerns are always the top priority! \nWe also will be talking about Travel and Family Visits. \nCome with your questions and share your concerns and successes!
URL:https://llldurham.org/event/257/
LOCATION:Eno River Unitarian Universalist Fellowship\, 4907 Garrett Road\, Durham\, NC\, 27707\, United States
END:VEVENT
END:VCALENDAR