BEGIN:VCALENDAR
VERSION:2.0
PRODID:-//La Leche League of Durham - ECPv6.0.9//NONSGML v1.0//EN
CALSCALE:GREGORIAN
METHOD:PUBLISH
X-ORIGINAL-URL:https://llldurham.org
X-WR-CALDESC:Events for La Leche League of Durham
REFRESH-INTERVAL;VALUE=DURATION:PT1H
X-Robots-Tag:noindex
X-PUBLISHED-TTL:PT1H
BEGIN:VTIMEZONE
TZID:America/New_York
BEGIN:DAYLIGHT
TZOFFSETFROM:-0500
TZOFFSETTO:-0400
TZNAME:EDT
DTSTART:20200308T070000
END:DAYLIGHT
BEGIN:STANDARD
TZOFFSETFROM:-0400
TZOFFSETTO:-0500
TZNAME:EST
DTSTART:20201101T060000
END:STANDARD
END:VTIMEZONE
BEGIN:VEVENT
DTSTART;TZID=America/New_York:20200603T100000
DTEND;TZID=America/New_York:20200603T100000
DTSTAMP:20260425T114318
CREATED:20200516T122453Z
LAST-MODIFIED:20200516T174228Z
UID:381-1591178400-1591178400@llldurham.org
SUMMARY:Central Durham group meeting ONLINE on June 3 at 10am
DESCRIPTION:The Central Durham La Leche League Group meets on the first Wednesday of each month at 10am. (No meetings in January and July.) \nThe June 3rd meeting is ONLINE.\nWhere: https://meet.google.com/rzo-dqdh-gcp \nGet support!  Ask questions!  Share experiences!   \nYour questions and concerns are always the top priority!\nWe also will be talking about Getting Breastfeeding Off to a Good Start. \nCome with your questions and share your concerns and successes!
URL:https://llldurham.org/event/central-durham-group-meeting-online-on-june-3/
LOCATION:Online Durham Daytime meeting\, https://meet.google.com/rzo-dqdh-gcp\, Durham\, NC\, United States
END:VEVENT
BEGIN:VEVENT
DTSTART;TZID=America/New_York:20200608T183000
DTEND;TZID=America/New_York:20200608T183000
DTSTAMP:20260425T114318
CREATED:20200518T155413Z
LAST-MODIFIED:20200518T161009Z
UID:388-1591641000-1591641000@llldurham.org
SUMMARY:La Leche League Durham PM Group meeting ONLINE June 8
DESCRIPTION:The La Leche League Durham PM Group is meeting ONLINE/VIRTUAL until further notice. \nThe next meeting is: Monday\, June 8\, 2020 at 6:30pm \nWhere:  https://us02web.zoom.us/j/79745914178 \nGet support!  Ask questions!  Share experiences!   \nYour questions and concerns are always the top priority! \nWe also will be talking about The Baby Arrives: The Family and the Breastfed Baby. \nCome with your questions and share your concerns and successes!
URL:https://llldurham.org/event/la-leche-league-durham-pm-group-meeting-online-june-8/
LOCATION:Online Zoom PM Meeting\, Durham\, https://us02web.zoom.us/j/79745914178\, NC\, United States
END:VEVENT
BEGIN:VEVENT
DTSTART;TZID=America/New_York:20200618T103000
DTEND;TZID=America/New_York:20200618T120000
DTSTAMP:20260425T114318
CREATED:20200617T230754Z
LAST-MODIFIED:20200617T230754Z
UID:398-1592476200-1592481600@llldurham.org
SUMMARY:Durham South Group Meets on Thursday\, June 18th
DESCRIPTION:The Durham South La Leche League Group is meeting ONLINE! \nWhen: Thursday\, June 18\, 10:30am (10:20am to set up and “network”) \nWhere:  https://meet.google.com/drx-dsef-akf \nGet support!  Ask questions!  Share experiences!   \nYour questions and concerns are always the top priority! \nWe also will be talking about Bonding from Pregnant to Baby to Toddler \n  \nCome with your questions and share your concerns and successes! \n 
URL:https://llldurham.org/event/durham-south-group-meets-on-thursday-june-18th/
LOCATION:Online Durham South\, https://meet.google.com/drx-dsef-akf\, NC\, United States
END:VEVENT
END:VCALENDAR