BEGIN:VCALENDAR
VERSION:2.0
PRODID:-//La Leche League of Durham - ECPv6.0.9//NONSGML v1.0//EN
CALSCALE:GREGORIAN
METHOD:PUBLISH
X-ORIGINAL-URL:https://llldurham.org
X-WR-CALDESC:Events for La Leche League of Durham
REFRESH-INTERVAL;VALUE=DURATION:PT1H
X-Robots-Tag:noindex
X-PUBLISHED-TTL:PT1H
BEGIN:VTIMEZONE
TZID:America/New_York
BEGIN:DAYLIGHT
TZOFFSETFROM:-0500
TZOFFSETTO:-0400
TZNAME:EDT
DTSTART:20200308T070000
END:DAYLIGHT
BEGIN:STANDARD
TZOFFSETFROM:-0400
TZOFFSETTO:-0500
TZNAME:EST
DTSTART:20201101T060000
END:STANDARD
END:VTIMEZONE
BEGIN:VEVENT
DTSTART;VALUE=DATE:20200901
DTEND;VALUE=DATE:20201001
DTSTAMP:20260425T143046
CREATED:20200903T210003Z
LAST-MODIFIED:20200903T210233Z
UID:448-1598918400-1601510399@llldurham.org
SUMMARY:September Meeting Schedule |  La Leche League of Durham
DESCRIPTION:Wednesday\, September 2nd at 10:00am\nhttps://meet.google.com/rzo-dqdh-gcp\nWeaning: The Four Chambers of the Heart \nMonday\, September 14\, 2020\, at 6:30pm\nWhere:  https://us02web.zoom.us/j/79745914178\nThe Importance of Breastfeeding \nThursday\, September 17\, at 10:30am\nhttps://meet.google.com/drx-dsef-akf\nThe Art of Nursing \nGet support!  Ask questions!  Share experiences!  \nYour questions and concerns are always the top priority! \nWhether you are pregnant or facing a challenge; breastfeeding is going smoothly; or you would like to help support others…Come with your questions and share your concerns and successes!
URL:https://llldurham.org/event/la-leche-league-of-durham-september-meeting-schedule/
LOCATION:NC
END:VEVENT
BEGIN:VEVENT
DTSTART;TZID=America/New_York:20200902T100000
DTEND;TZID=America/New_York:20200902T113000
DTSTAMP:20260425T143046
CREATED:20200828T023646Z
LAST-MODIFIED:20200828T023729Z
UID:440-1599040800-1599046200@llldurham.org
SUMMARY:Central Durham Group meets online September 2nd
DESCRIPTION:The Central Durham  La Leche League Group is meeting ONLINE in September! \nWhen: Wednesday\, September 2nd\, at 10:00am \nWhere: https://meet.google.com/rzo-dqdh-gcp \nGet support!  Ask questions!  Share experiences!   \nYour questions and concerns are always the top priority! \nWe also will be talking about Weaning: The Four Chambers of the Heart \nWhether you are pregnant or facing a challenge; breastfeeding is going smoothly; or you would like to help support others…Come with your questions and share your concerns and successes!
URL:https://llldurham.org/event/central-durham-meets-online-september-2nd/
LOCATION:Online Durham Daytime meeting\, https://meet.google.com/rzo-dqdh-gcp\, Durham\, NC\, United States
END:VEVENT
BEGIN:VEVENT
DTSTART;TZID=America/New_York:20200914T183000
DTEND;TZID=America/New_York:20200914T200000
DTSTAMP:20260425T143046
CREATED:20200828T024026Z
LAST-MODIFIED:20200828T024026Z
UID:444-1600108200-1600113600@llldurham.org
SUMMARY:LLL DURHAM PM GROUP MEETING ONLINE SEPTEMBER 14
DESCRIPTION:The La Leche League Durham PM Group is meeting ONLINE/VIRTUAL until further notice. \nThe next meeting is: Monday\, September 14\, 2020\, at 6:30pm \nWhere:  https://us02web.zoom.us/j/79745914178 \nGet support!  Ask questions!  Share experiences!   \nYour questions and concerns are always the top priority! \nWe also will be talking about The Importance of Breastfeeding.. \nCome with your questions and share your concerns and successes!
URL:https://llldurham.org/event/lll-durham-pm-group-meeting-online-september-14/
LOCATION:Online Zoom PM Meeting\, Durham\, https://us02web.zoom.us/j/79745914178\, NC\, United States
END:VEVENT
BEGIN:VEVENT
DTSTART;TZID=America/New_York:20200917T103000
DTEND;TZID=America/New_York:20200917T120000
DTSTAMP:20260425T143046
CREATED:20200828T024316Z
LAST-MODIFIED:20200828T024316Z
UID:446-1600338600-1600344000@llldurham.org
SUMMARY:DURHAM SOUTH GROUP MEETS ONLINE SEPTEMBER 17
DESCRIPTION:The Durham South La Leche League Group ONLINE meeting! \nWhen: Thursday\, September 17\, at 10:30am \nWhere:  https://meet.google.com/drx-dsef-akf \nGet support!  Ask questions!  Share experiences!   \nYour questions and concerns are always the top priority! \nWe also will be talking about The Art of Nursing \nWhether you are pregnant or facing a challenge; breastfeeding is going smoothly; or you would like to help support others…Come with your questions and share your concerns and successes!
URL:https://llldurham.org/event/durham-south-group-meets-online-september-17/
LOCATION:Online Durham South\, https://meet.google.com/drx-dsef-akf\, NC\, United States
END:VEVENT
END:VCALENDAR