BEGIN:VCALENDAR
VERSION:2.0
PRODID:-//La Leche League of Durham - ECPv6.0.9//NONSGML v1.0//EN
CALSCALE:GREGORIAN
METHOD:PUBLISH
X-WR-CALNAME:La Leche League of Durham
X-ORIGINAL-URL:https://llldurham.org
X-WR-CALDESC:Events for La Leche League of Durham
REFRESH-INTERVAL;VALUE=DURATION:PT1H
X-Robots-Tag:noindex
X-PUBLISHED-TTL:PT1H
BEGIN:VTIMEZONE
TZID:America/New_York
BEGIN:DAYLIGHT
TZOFFSETFROM:-0500
TZOFFSETTO:-0400
TZNAME:EDT
DTSTART:20200308T070000
END:DAYLIGHT
BEGIN:STANDARD
TZOFFSETFROM:-0400
TZOFFSETTO:-0500
TZNAME:EST
DTSTART:20201101T060000
END:STANDARD
END:VTIMEZONE
BEGIN:VEVENT
DTSTART;VALUE=DATE:20201001
DTEND;VALUE=DATE:20201101
DTSTAMP:20260425T160439
CREATED:20200903T210912Z
LAST-MODIFIED:20200903T210950Z
UID:451-1601510400-1604188799@llldurham.org
SUMMARY:October Meeting Schedule | La Leche League of Durham
DESCRIPTION:Wednesday\, October 7nd at 10:00am\nhttps://meet.google.com/rzo-dqdh-gcp\nABCs of Breastfeeding \nMonday\, October 12\, 2020\, at 6:30pm\nWhere:  https://us02web.zoom.us/j/79745914178\nThe Baby Arrives: The Family and the Breastfed Baby \nThursday\, October 15\, at 10:30am\nhttps://meet.google.com/drx-dsef-akf\nLoving Guidance \nGet support!  Ask questions!  Share experiences!  \nYour questions and concerns are always the top priority! \n\n\nWhether you are pregnant or facing a challenge; breastfeeding is going smoothly; or you would like to help support others…Come with your questions and share your concerns and successes!
URL:https://llldurham.org/event/october-meeting-schedule-la-leche-league-of-durham/
LOCATION:NC
END:VEVENT
BEGIN:VEVENT
DTSTART;TZID=America/New_York:20201001T100000
DTEND;TZID=America/New_York:20201001T113000
DTSTAMP:20260425T160439
CREATED:20201013T214728Z
LAST-MODIFIED:20201013T221348Z
UID:454-1601546400-1601551800@llldurham.org
SUMMARY:LLL Durham Wednesday Daytime Group Meets October 1st.
DESCRIPTION:When: Wednesday\, October 1st\, at 10:00am \nWhere: https://meet.google.com/rzo-dqdh-gcp \nGet support!  Ask questions!  Share experiences!   \nYour questions and concerns are always the top priority! \nWe also will be talking about The ABCs of Breastfeeding \nWhether you are pregnant or facing a challenge; breastfeeding is going smoothly; or you would like to help support others…Come with your questions and share your concerns and successes!
URL:https://llldurham.org/event/durham-daytime-wednesday-group/
LOCATION:Online Durham Daytime meeting\, https://meet.google.com/rzo-dqdh-gcp\, Durham\, NC\, United States
END:VEVENT
BEGIN:VEVENT
DTSTART;TZID=America/New_York:20201012T183000
DTEND;TZID=America/New_York:20201012T200000
DTSTAMP:20260425T160439
CREATED:20201013T221157Z
LAST-MODIFIED:20201013T221157Z
UID:460-1602527400-1602532800@llldurham.org
SUMMARY:LLL Durham PM Group meets October 12th.
DESCRIPTION:The next meeting is: Monday\, October 12\, 2020\, at 6:30pm \nWhere:  https://us02web.zoom.us/j/79745914178 \nGet support!  Ask questions!  Share experiences!   \nYour questions and concerns are always the top priority! \nWe also will be talking about The Baby Arrives: The Family and the Breastfed Baby. \nCome with your questions and share your concerns and successes!
URL:https://llldurham.org/event/lll-durham-pm-group-meets-october-12th/
LOCATION:Online Zoom PM Meeting\, Durham\, https://us02web.zoom.us/j/79745914178\, NC\, United States
END:VEVENT
BEGIN:VEVENT
DTSTART;TZID=America/New_York:20201015T103000
DTEND;TZID=America/New_York:20201015T120000
DTSTAMP:20260425T160439
CREATED:20201013T220858Z
LAST-MODIFIED:20201013T220858Z
UID:457-1602757800-1602763200@llldurham.org
SUMMARY:Durham Thursday Daytime Group meets October 15th
DESCRIPTION:When: Thursday\, October 15\, at 10:30am \nWhere:  https://meet.google.com/drx-dsef-akf \nGet support!  Ask questions!  Share experiences!   \nYour questions and concerns are always the top priority! \nWe also will be talking about Loving Guidance. \nWhether you are pregnant or facing a challenge; breastfeeding is going smoothly; or you would like to help support others…Come with your questions and share your concerns and successes!
URL:https://llldurham.org/event/durham-thursday-daytime-group-meets-october-15th/
LOCATION:Online Durham South\, https://meet.google.com/drx-dsef-akf\, NC\, United States
END:VEVENT
END:VCALENDAR